BEGIN:VCALENDAR
VERSION:2.0
PRODID:-//Asociación Española de Arboricultura - ECPv6.15.20//NONSGML v1.0//EN
CALSCALE:GREGORIAN
METHOD:PUBLISH
X-ORIGINAL-URL:https://aearboricultura.org
X-WR-CALDESC:Eventos para Asociación Española de Arboricultura
REFRESH-INTERVAL;VALUE=DURATION:PT1H
X-Robots-Tag:noindex
X-PUBLISHED-TTL:PT1H
BEGIN:VTIMEZONE
TZID:Europe/Madrid
BEGIN:DAYLIGHT
TZOFFSETFROM:+0100
TZOFFSETTO:+0200
TZNAME:CEST
DTSTART:20240331T010000
END:DAYLIGHT
BEGIN:STANDARD
TZOFFSETFROM:+0200
TZOFFSETTO:+0100
TZNAME:CET
DTSTART:20241027T010000
END:STANDARD
BEGIN:DAYLIGHT
TZOFFSETFROM:+0100
TZOFFSETTO:+0200
TZNAME:CEST
DTSTART:20250330T010000
END:DAYLIGHT
BEGIN:STANDARD
TZOFFSETFROM:+0200
TZOFFSETTO:+0100
TZNAME:CET
DTSTART:20251026T010000
END:STANDARD
BEGIN:DAYLIGHT
TZOFFSETFROM:+0100
TZOFFSETTO:+0200
TZNAME:CEST
DTSTART:20260329T010000
END:DAYLIGHT
BEGIN:STANDARD
TZOFFSETFROM:+0200
TZOFFSETTO:+0100
TZNAME:CET
DTSTART:20261025T010000
END:STANDARD
END:VTIMEZONE
BEGIN:VEVENT
DTSTART;TZID=Europe/Madrid:20250324T090000
DTEND;TZID=Europe/Madrid:20250326T170000
DTSTAMP:20260423T000340
CREATED:20250131T124505Z
LAST-MODIFIED:20250205T083732Z
UID:10000438-1742806800-1743008400@aearboricultura.org
SUMMARY:CURSO: TÉCNICAS AVANZADAS DE TREPA. REVISIÓN Y ACTUALIZACIÓN DE TÉCNICAS PARA LA TREPA DE ÁRBOLES - CAMBRILS - 2025
DESCRIPTION:CURSO: TÉCNICAS AVANZADAS DE TREPA. REVISIÓN Y ACTUALIZACIÓN DE TÉCNICAS PARA LA TREPA DE ÁRBOLES – PARC SAMÀ (CAMBRILS)\nLa AEA organiza un nuevo curso de técnicas avanzadas de trepa en arboricultura. Este curso se realiza con la colaboración DNA EXPERTUS TURISMO Y OCIO\, empresa gestora del PARC SAMÀ. \nEstá orientado a trepadores/as con experiencia en trepa de árboles y curso de iniciación hecho. \nFECHA Y LUGAR: \nLunes 24 de marzo\, de 9h a 13:30h y de 14:30h a 17:00h\nMartes 25 de marzo\, de 9h a 13:30h y de 14:30h a 17:00h\nMiércoles 26 de marzo\, de 9h a 13:30h y de 14:30h a 17:00h \nUbicación: Parc Samà. Cambrils (Tarragona) \nAFORO:\nAforo de asistentes: 15 asistentes. \nPRECIO:\nPrecio SOCIO AEA: 325\,00 €\nPrecio NO SOCIO: 370\,00 € \n\nTODA LA INFORMACIÓN: https://aearboricultura.org/curso-tecnicas-avanzadas-de-trepa-cambrils-2025/ \nINSCRIPCIÓN: https://aearboricultura.org/formulario-de-inscripcion-curso-tecnicas-avanzadas-de-trepa-cambrils-2025/
URL:https://aearboricultura.org/event/curso-tecnicas-avanzadas-de-trepa-revision-y-actualizacion-de-tecnicas-para-la-trepa-de-arboles-cambrils-2025/
CATEGORIES:Actualidad,Formación
ATTACH;FMTTYPE=image/png:https://aearboricultura.org/wp-content/uploads/2025/01/DESTACADA_TREPA_AVANZADA_CAMBRILS25.png
ORGANIZER;CN="ASOCIACI%C3%93N ESPA%C3%91OLA DE ARBORICULTURA":MAILTO:administracion@aearboricultura.org
END:VEVENT
BEGIN:VEVENT
DTSTART;TZID=Europe/Madrid:20250326T090000
DTEND;TZID=Europe/Madrid:20250327T140000
DTSTAMP:20260423T000340
CREATED:20250129T131236Z
LAST-MODIFIED:20250207T085234Z
UID:10000436-1742979600-1743084000@aearboricultura.org
SUMMARY:CURSO: ÁRBOLES EN FORMA. LA FORMA DE LOS ÁRBOLES COMO CONDICIONANTE EN LA DECISIÓN DE PODAR - CHRISTOPHE DRÉNOU. 26 Y 27 MARZO 2025
DESCRIPTION:CURSO: ÁRBOLES EN FORMA. LA FORMA DE LOS ÁRBOLES COMO CONDICIONANTE EN LA DECISIÓN DE PODAR – CHRISTOPHE DRÉNOU\nLa AEA organiza en el Real Jardín Botánico de Madrid un curso con el objetivo de dotar al alumno de los conocimientos y técnicas básicas para saber leer la forma de los árboles para recorrer su historia\, diagnosticar su vitalidad y predecir su evolución. Así como para ser capaz de identificar aquellas situaciones en las que la poda es perjudicial\, aquellas en las que es innecesaria u opcional y aquellas en las que\, por el contrario\, es obligatoria. \nEstá dirigido a estudiantes y profesionales relacionados con el ámbito de la jardinería\, paisajismo\, forestal\, etc. O personas con inquietudes relacionadas con la arboricultura. \nFECHA Y LUGAR:\nMiércoles 26 de marzo\, de 9:00h a 17:30h.\nJueves 27 de marzo\, de 9:00h a 14:00h. \nUbicación: Madrid. Real Jardín Botánico – CSIC. \nAFORO:\nAforo de asistentes: 50 asistentes. \nPRECIO:\nPrecio SOCIO AEA: 155\,00 €\nPrecio NO SOCIO: 205\,00 € \n\nTODA LA INFORMACIÓN: https://aearboricultura.org/curso-arboles-en-forma-la-forma-de-los-arboles-como-condicionante-en-la-decision-de-podar-christophe-drenou/ \nINSCRIPCIÓN: https://aearboricultura.org/formulario-de-inscripcion-curso-arboles-en-forma-la-forma-de-los-arboles-como-condicionante-en-la-decision-de-podar-christophe-drenou/
URL:https://aearboricultura.org/event/curso-arboles-en-forma-drenou-26-y-27-marzo-2025/
CATEGORIES:Actualidad,Formación
ATTACH;FMTTYPE=image/png:https://aearboricultura.org/wp-content/uploads/2025/02/DESTACADA_DRENOU_0325.png
ORGANIZER;CN="ASOCIACI%C3%93N ESPA%C3%91OLA DE ARBORICULTURA":MAILTO:administracion@aearboricultura.org
END:VEVENT
END:VCALENDAR