BEGIN:VCALENDAR
VERSION:2.0
PRODID:-//Asociación Española de Arboricultura - ECPv6.15.20//NONSGML v1.0//EN
CALSCALE:GREGORIAN
METHOD:PUBLISH
X-ORIGINAL-URL:https://aearboricultura.org
X-WR-CALDESC:Eventos para Asociación Española de Arboricultura
REFRESH-INTERVAL;VALUE=DURATION:PT1H
X-Robots-Tag:noindex
X-PUBLISHED-TTL:PT1H
BEGIN:VTIMEZONE
TZID:Europe/Madrid
BEGIN:DAYLIGHT
TZOFFSETFROM:+0100
TZOFFSETTO:+0200
TZNAME:CEST
DTSTART:20240331T010000
END:DAYLIGHT
BEGIN:STANDARD
TZOFFSETFROM:+0200
TZOFFSETTO:+0100
TZNAME:CET
DTSTART:20241027T010000
END:STANDARD
BEGIN:DAYLIGHT
TZOFFSETFROM:+0100
TZOFFSETTO:+0200
TZNAME:CEST
DTSTART:20250330T010000
END:DAYLIGHT
BEGIN:STANDARD
TZOFFSETFROM:+0200
TZOFFSETTO:+0100
TZNAME:CET
DTSTART:20251026T010000
END:STANDARD
BEGIN:DAYLIGHT
TZOFFSETFROM:+0100
TZOFFSETTO:+0200
TZNAME:CEST
DTSTART:20260329T010000
END:DAYLIGHT
BEGIN:STANDARD
TZOFFSETFROM:+0200
TZOFFSETTO:+0100
TZNAME:CET
DTSTART:20261025T010000
END:STANDARD
END:VTIMEZONE
BEGIN:VEVENT
DTSTART;VALUE=DATE:20251104
DTEND;VALUE=DATE:20251106
DTSTAMP:20260421T193930
CREATED:20250801T115039Z
LAST-MODIFIED:20250801T115519Z
UID:10000446-1762214400-1762387199@aearboricultura.org
SUMMARY:Certificación European Tree Worker 2025 (ETT)
DESCRIPTION:Anunciamos la nueva convocatoria para la certificación European Tree Worker (ETW). La convocatoria se celebrará durante los días 4 y 5 de noviembre\, en Montesquiu\, concretamente en el Centro Formació Forestal Especialitzada www.formacioforestal.cat. \n\n\nLas personas a las que les corresponde acceder a las pruebas por orden de lista de espera\, así como los aspirantes con pruebas pendientes\, son avisadas desde secretaría. \n¿Te interesa certificarte? sigue la información en la web. \nLa lista de espera para la convocatoria se ha actualizado. Puedes consultarla en el apartado correspondiente de la web: \n\nPreinscripción para la Certificación European Tree Worker \n \n\nQueremos agradecer a Formació Forestal Especialitzada\, centro formador reconocido AEA\, la cesión del espacio. \n\n\nQué es un European Tree Worker \nEl European Tree Worker (ETW) es aquel profesional que lleva a cabo tareas de mantenimiento en arbolado urbano -público y privado- teniendo en cuenta el estado de salud del propio árbol y la seguridad de los medios humanos y materiales que lo rodean\, con el objetivo de mantener un patrimonio arbóreo bello\, sano y seguro. Este tipo de tarea exige un dominio de las técnicas de poda\, sustentación y tala de árboles ornamentales\, unas competencias generales en arboricultura y un conocimiento de las técnicas de acceso a los árboles\, respetando y haciendo cumplir en todo momento la seguridad en el trabajo.
URL:https://aearboricultura.org/event/certificacion-european-tree-worker-2025/
CATEGORIES:Actualidad
ATTACH;FMTTYPE=image/jpeg:https://aearboricultura.org/wp-content/uploads/2025/07/WhatsApp-Image-2025-07-28-at-11.59.57.avif
ORGANIZER;CN="ASOCIACI%C3%93N ESPA%C3%91OLA DE ARBORICULTURA":MAILTO:administracion@aearboricultura.org
END:VEVENT
END:VCALENDAR