BEGIN:VCALENDAR
VERSION:2.0
PRODID:-//Asociación Española de Arboricultura - ECPv6.15.20//NONSGML v1.0//EN
CALSCALE:GREGORIAN
METHOD:PUBLISH
X-ORIGINAL-URL:https://aearboricultura.org
X-WR-CALDESC:Eventos para Asociación Española de Arboricultura
REFRESH-INTERVAL;VALUE=DURATION:PT1H
X-Robots-Tag:noindex
X-PUBLISHED-TTL:PT1H
BEGIN:VTIMEZONE
TZID:Europe/Madrid
BEGIN:DAYLIGHT
TZOFFSETFROM:+0100
TZOFFSETTO:+0200
TZNAME:CEST
DTSTART:20240331T010000
END:DAYLIGHT
BEGIN:STANDARD
TZOFFSETFROM:+0200
TZOFFSETTO:+0100
TZNAME:CET
DTSTART:20241027T010000
END:STANDARD
BEGIN:DAYLIGHT
TZOFFSETFROM:+0100
TZOFFSETTO:+0200
TZNAME:CEST
DTSTART:20250330T010000
END:DAYLIGHT
BEGIN:STANDARD
TZOFFSETFROM:+0200
TZOFFSETTO:+0100
TZNAME:CET
DTSTART:20251026T010000
END:STANDARD
BEGIN:DAYLIGHT
TZOFFSETFROM:+0100
TZOFFSETTO:+0200
TZNAME:CEST
DTSTART:20260329T010000
END:DAYLIGHT
BEGIN:STANDARD
TZOFFSETFROM:+0200
TZOFFSETTO:+0100
TZNAME:CET
DTSTART:20261025T010000
END:STANDARD
END:VTIMEZONE
BEGIN:VEVENT
DTSTART;TZID=Europe/Madrid:20251126T170000
DTEND;TZID=Europe/Madrid:20251126T183000
DTSTAMP:20260421T104352
CREATED:20251028T083425Z
LAST-MODIFIED:20251028T083425Z
UID:10000449-1764176400-1764181800@aearboricultura.org
SUMMARY:WEBINAR GRATUITO: GREEHILL: INVENTARIO INTELIGENTE Y GESTIÓN DEL ARBOLADO MEDIANTE DIGITALIZACIÓN VIA LIDAR E INTELIGENCIA ARTIFICIAL
DESCRIPTION:Los inventarios inteligentes de GREEHILL\, mediante escaneo LIDAR\, permiten gestionar los árboles urbanos de una manera nueva y eficiente. Con un coste muy asequible\, se obtiene el gemelo digital al detalle de la estructura y volumen de todos los árboles de una ciudad\, además de varias fotografías de cada árbol. \nEsta digitalización permite obtener automáticamente de cada árbol: especie\, diámetro exacto\, altura exacta\, vitalidad\, presencia de ramas secas o atrincheramiento\, interferencias con edificaciones y mobiliario urbano\, coeficiente básico de seguridad en función de una dirección de viento y velocidad modificable\, coeficiente de esbeltez\, beneficios ecosistémicos (captación de partículas NOx\, SOx\, etc.)\, área radicular standard de protección\, y otros campos hasta un número de 95 parámetros. Los parámetros se agrupan en 3 campos: vitalidad\, estructura y estabilidad y beneficios. \nEste número aumenta a medida que se extraen de la nube de puntos escaneada nuevos datos. Recientemente\, por ejemplo\, se ha incluido el índice de competencia que genera un porcentaje de copa “tapada” por las copas de otros árboles. \nLa aplicación permite también la gestión de trabajos y la introducción de nuevos datos obtenidos mediante inspección en campo. Todos los cambios quedan guardados en un historial individualizado. \nSe puede sincronizar automáticamente con otro software que el gestor tenga o necesite actualizar de manera bidireccional. \nMás información e inscripción en el siguiente enlace: \nhttps://aearboricultura.org/webinar-gratuito-greehill-inventario-inteligente-y-gestion-del-arbolado-mediante-digitalizacion-via-lidar-e-inteligencia-artificial/
URL:https://aearboricultura.org/event/webinar-gratuito-greehill-inventario-inteligente-y-gestion-del-arbolado-mediante-digitalizacion-via-lidar-e-inteligencia-artificial/
CATEGORIES:Actualidad,Formación
ATTACH;FMTTYPE=image/jpeg:https://aearboricultura.org/wp-content/uploads/2025/10/Captura-de-pantalla-2025-10-27-a-las-13.37.07.avif
ORGANIZER;CN="ASOCIACI%C3%93N ESPA%C3%91OLA DE ARBORICULTURA":MAILTO:administracion@aearboricultura.org
END:VEVENT
END:VCALENDAR