BEGIN:VCALENDAR
VERSION:2.0
PRODID:-//Asociación Española de Arboricultura - ECPv6.15.20//NONSGML v1.0//EN
CALSCALE:GREGORIAN
METHOD:PUBLISH
X-WR-CALNAME:Asociación Española de Arboricultura
X-ORIGINAL-URL:https://aearboricultura.org
X-WR-CALDESC:Eventos para Asociación Española de Arboricultura
REFRESH-INTERVAL;VALUE=DURATION:PT1H
X-Robots-Tag:noindex
X-PUBLISHED-TTL:PT1H
BEGIN:VTIMEZONE
TZID:Europe/Madrid
BEGIN:DAYLIGHT
TZOFFSETFROM:+0100
TZOFFSETTO:+0200
TZNAME:CEST
DTSTART:20240331T010000
END:DAYLIGHT
BEGIN:STANDARD
TZOFFSETFROM:+0200
TZOFFSETTO:+0100
TZNAME:CET
DTSTART:20241027T010000
END:STANDARD
BEGIN:DAYLIGHT
TZOFFSETFROM:+0100
TZOFFSETTO:+0200
TZNAME:CEST
DTSTART:20250330T010000
END:DAYLIGHT
BEGIN:STANDARD
TZOFFSETFROM:+0200
TZOFFSETTO:+0100
TZNAME:CET
DTSTART:20251026T010000
END:STANDARD
BEGIN:DAYLIGHT
TZOFFSETFROM:+0100
TZOFFSETTO:+0200
TZNAME:CEST
DTSTART:20260329T010000
END:DAYLIGHT
BEGIN:STANDARD
TZOFFSETFROM:+0200
TZOFFSETTO:+0100
TZNAME:CET
DTSTART:20261025T010000
END:STANDARD
END:VTIMEZONE
BEGIN:VEVENT
DTSTART;TZID=Europe/Madrid:20251007T170000
DTEND;TZID=Europe/Madrid:20251008T200000
DTSTAMP:20260420T074059
CREATED:20250708T103121Z
LAST-MODIFIED:20250708T103457Z
UID:10000442-1759856400-1759953600@aearboricultura.org
SUMMARY:Curso Online: PLANIFICACIÓN\, ORGANIZACIÓN Y DIMENSIONAMIENTO EN TRABAJOS DE ARBORICULTURA. Parte 1
DESCRIPTION:Presentamos una nueva edición del Curso online de planificación y organización en trabajos de arboricultura (Parte I) \nCuándo: 7 y 8 de octubre de 2025\, 17:00–20:00 h (online) \nFormato: Online (Zoom) \nPara quién: Arbolistas\, técnicos\, gestores de espacios verdes y aspirantes a certificaciones ETW/ETT \nObjetivos: \n\nAplicar normativa y permisos\nDimensionar recursos\, tiempos y costes\nOptimizar beneficios ecosistémicos y reducir riesgos\nFormadores: Juan Barrero Beltrán y Mario Gutiérrez Martínez\n\nPrecio: 65 € (socios AEA) / 95 € (no socios) \nInscripción y más información: https://aearboricultura.org/curso-online-planificacion-organizacion-y-dimensionamiento-en-trabajos-de-arboricultura-parte-i-7-8-octubre-2025/
URL:https://aearboricultura.org/event/curso-online-planificacion-organizacion-y-dimensionamiento-en-trabajos-de-arboricultura-parte-uno/
CATEGORIES:Actualidad,Formación
ATTACH;FMTTYPE=image/jpeg:https://aearboricultura.org/wp-content/uploads/2025/07/WhatsApp-Image-2025-07-08-at-12.20.171.jpeg
ORGANIZER;CN="ASOCIACI%C3%93N ESPA%C3%91OLA DE ARBORICULTURA":MAILTO:administracion@aearboricultura.org
END:VEVENT
END:VCALENDAR