BEGIN:VCALENDAR
VERSION:2.0
PRODID:-//Asociación Española de Arboricultura - ECPv6.15.20//NONSGML v1.0//EN
CALSCALE:GREGORIAN
METHOD:PUBLISH
X-ORIGINAL-URL:https://aearboricultura.org
X-WR-CALDESC:Eventos para Asociación Española de Arboricultura
REFRESH-INTERVAL;VALUE=DURATION:PT1H
X-Robots-Tag:noindex
X-PUBLISHED-TTL:PT1H
BEGIN:VTIMEZONE
TZID:Europe/Madrid
BEGIN:DAYLIGHT
TZOFFSETFROM:+0100
TZOFFSETTO:+0200
TZNAME:CEST
DTSTART:20240331T010000
END:DAYLIGHT
BEGIN:STANDARD
TZOFFSETFROM:+0200
TZOFFSETTO:+0100
TZNAME:CET
DTSTART:20241027T010000
END:STANDARD
BEGIN:DAYLIGHT
TZOFFSETFROM:+0100
TZOFFSETTO:+0200
TZNAME:CEST
DTSTART:20250330T010000
END:DAYLIGHT
BEGIN:STANDARD
TZOFFSETFROM:+0200
TZOFFSETTO:+0100
TZNAME:CET
DTSTART:20251026T010000
END:STANDARD
BEGIN:DAYLIGHT
TZOFFSETFROM:+0100
TZOFFSETTO:+0200
TZNAME:CEST
DTSTART:20260329T010000
END:DAYLIGHT
BEGIN:STANDARD
TZOFFSETFROM:+0200
TZOFFSETTO:+0100
TZNAME:CET
DTSTART:20261025T010000
END:STANDARD
END:VTIMEZONE
BEGIN:VEVENT
DTSTART;VALUE=DATE:20251001
DTEND;VALUE=DATE:20251003
DTSTAMP:20260420T060248
CREATED:20250430T093912Z
LAST-MODIFIED:20250721T092958Z
UID:10000441-1759276800-1759449599@aearboricultura.org
SUMMARY:CURSO: EL PRINCIPIO CODIT - BIOLOGÍA Y CUIDADO DE LOS ÁRBOLES. 2ª EDICIÓN
DESCRIPTION:CURSO: EL PRINCIPIO CODIT – BIOLOGÍA Y CUIDADO DE LOS ÁRBOLES. 2ª EDICIÓN\nCon la colaboración del Real Jardín Botánico – CSIC de Madrid\, presentamos la 2ª Edición de la jornada “El principio CODIT – biología y cuidado de los árboles”\, de la mano del co-autor de la obra de referencia Dirk Dujesiefken. PHD\, Profesor\, Instituto de Arboricultura\, Hamburgo/Alemania. \nLos árboles tienen que hacer frente a muchos cambios de ubicación a lo largo de su vida. En las zonas urbanas\, se ven influidos por otros muchos factores\, como la compactación del suelo\, el sellado\, los daños en las raíces causados por movimientos de tierra\, las medidas de poda en la copa\, los daños por colisión o el vandalismo. Esto hace que las recomendaciones prácticas para el cuidado y la conservación de los árboles en las ciudades y a lo largo de las carreteras sean aún más importantes para la protección de los árboles en nuestras ciudades y en el paisaje. \nTODA LA INFORMACIÓN: https://aearboricultura.org/jornada-el-principio-codit-biologia-y-cuidado-de-los-arboles-2-edicion/
URL:https://aearboricultura.org/event/curso-el-principio-codit-biologia-y-cuidado-de-los-arboles-2-edicion/
LOCATION:REAL JARDÍN BOTANICO-CSIC\, Claudio Moyano\, nº 1\, MADRID\, MADRID\, 28014\, Spain
CATEGORIES:Actualidad,Formación
ATTACH;FMTTYPE=image/jpeg:https://aearboricultura.org/wp-content/uploads/2025/07/Captura-de-pantalla-2025-07-21-a-las-11.26.54.avif
ORGANIZER;CN="ASOCIACI%C3%93N ESPA%C3%91OLA DE ARBORICULTURA":MAILTO:administracion@aearboricultura.org
END:VEVENT
END:VCALENDAR