BEGIN:VCALENDAR
VERSION:2.0
PRODID:-//Asociación Española de Arboricultura - ECPv6.15.20//NONSGML v1.0//EN
CALSCALE:GREGORIAN
METHOD:PUBLISH
X-WR-CALNAME:Asociación Española de Arboricultura
X-ORIGINAL-URL:https://aearboricultura.org
X-WR-CALDESC:Eventos para Asociación Española de Arboricultura
REFRESH-INTERVAL;VALUE=DURATION:PT1H
X-Robots-Tag:noindex
X-PUBLISHED-TTL:PT1H
BEGIN:VTIMEZONE
TZID:UTC
BEGIN:STANDARD
TZOFFSETFROM:+0000
TZOFFSETTO:+0000
TZNAME:UTC
DTSTART:20150101T000000
END:STANDARD
END:VTIMEZONE
BEGIN:VTIMEZONE
TZID:America/Chicago
BEGIN:DAYLIGHT
TZOFFSETFROM:-0600
TZOFFSETTO:-0500
TZNAME:CDT
DTSTART:20150308T080000
END:DAYLIGHT
BEGIN:STANDARD
TZOFFSETFROM:-0500
TZOFFSETTO:-0600
TZNAME:CST
DTSTART:20151101T070000
END:STANDARD
BEGIN:DAYLIGHT
TZOFFSETFROM:-0600
TZOFFSETTO:-0500
TZNAME:CDT
DTSTART:20160313T080000
END:DAYLIGHT
BEGIN:STANDARD
TZOFFSETFROM:-0500
TZOFFSETTO:-0600
TZNAME:CST
DTSTART:20161106T070000
END:STANDARD
BEGIN:DAYLIGHT
TZOFFSETFROM:-0600
TZOFFSETTO:-0500
TZNAME:CDT
DTSTART:20170312T080000
END:DAYLIGHT
BEGIN:STANDARD
TZOFFSETFROM:-0500
TZOFFSETTO:-0600
TZNAME:CST
DTSTART:20171105T070000
END:STANDARD
END:VTIMEZONE
BEGIN:VEVENT
DTSTART;TZID=UTC:20170728T080000
DTEND;TZID=UTC:20170730T170000
DTSTAMP:20260419T160338
CREATED:20170215T100728Z
LAST-MODIFIED:20170215T100728Z
UID:10000249-1501228800-1501434000@aearboricultura.org
SUMMARY:2017 International Tree Climbing Championship - World Championship
DESCRIPTION:EVENT LOCATION\nUS National Arboretum\nWashington\, D.C. (US)\nEVENT DATES\n28-30 July 2017\nTentative Schedule of Events
URL:https://aearboricultura.org/event/2017-international-tree-climbing-championship-world-championship/
ORGANIZER;CN="ISA - International Society of Arboriculture":MAILTO:itcc@isa-arbor.com
END:VEVENT
BEGIN:VEVENT
DTSTART;TZID=UTC:20170621T080000
DTEND;TZID=UTC:20170625T170000
DTSTAMP:20260419T160338
CREATED:20170215T100942Z
LAST-MODIFIED:20170215T101613Z
UID:10000250-1498032000-1498410000@aearboricultura.org
SUMMARY:European Tree Climbing Championship
DESCRIPTION:2017 ETCC\nDate:\n21-25 June 2017 \nLocation:\nPark to be determined\nDeventer\, Netherlands\nHosted by:\nISA KPB Chapter (Kring Praktiserende Boomverzorgers)
URL:https://aearboricultura.org/event/european-tree-climbing-championship-2/
ORGANIZER;CN="ISA - International Society of Arboriculture":MAILTO:itcc@isa-arbor.com
END:VEVENT
BEGIN:VEVENT
DTSTART;VALUE=DATE:20160702
DTEND;VALUE=DATE:20160704
DTSTAMP:20260419T160338
CREATED:20160330T130027Z
LAST-MODIFIED:20160330T130027Z
UID:10000228-1467417600-1467590399@aearboricultura.org
SUMMARY:European Tree Climbing Championship
DESCRIPTION:The European Tree Climbing Championship (ETCC) provides a competitive but educational opportunity for working arborists in Europe to demonstrate and exchange new climbing techniques and equipment\, as well as\,safe work practices.
URL:https://aearboricultura.org/event/european-tree-climbing-championship/
LOCATION:Stromovka Park\, Praga\, República Checa
ORGANIZER;CN="ISA - International Society of Arboriculture":MAILTO:itcc@isa-arbor.com
GEO:50.0755381;14.4378005
END:VEVENT
BEGIN:VEVENT
DTSTART;TZID=America/Chicago:20160401T080000
DTEND;TZID=America/Chicago:20160403T170000
DTSTAMP:20260419T160338
CREATED:20160113T124312Z
LAST-MODIFIED:20160113T124312Z
UID:10000221-1459497600-1459702800@aearboricultura.org
SUMMARY:2016 INTERNATIONAL TREE CLIMBING CHAMPIONSHIP
DESCRIPTION:Watch the greatest climbers in the world as they compete in the International Tree Climbing Championship to earn the title of World Champion. Cheer on the representatives from your country or home region!
URL:https://aearboricultura.org/event/2016-international-tree-climbing-championship/
LOCATION:Brackenridge Park\, San Antonio\, Texas\, UNITED STATES\, 3700 N St Mary's St\, San Antonio\, TX 78209\, TEXAS\, Estados Unidos
ORGANIZER;CN="ISA - International Society of Arboriculture":MAILTO:itcc@isa-arbor.com
GEO:29.4594067;-98.4773373
X-APPLE-STRUCTURED-LOCATION;VALUE=URI;X-ADDRESS=Brackenridge Park San Antonio Texas UNITED STATES 3700 N St Mary's St San Antonio TX 78209 TEXAS Estados Unidos;X-APPLE-RADIUS=500;X-TITLE=3700 N St Mary's St\, San Antonio\, TX 78209:geo:-98.4773373,29.4594067
END:VEVENT
END:VCALENDAR