BEGIN:VCALENDAR
VERSION:2.0
PRODID:-//Asociación Española de Arboricultura - ECPv6.15.20//NONSGML v1.0//EN
CALSCALE:GREGORIAN
METHOD:PUBLISH
X-ORIGINAL-URL:https://aearboricultura.org
X-WR-CALDESC:Eventos para Asociación Española de Arboricultura
REFRESH-INTERVAL;VALUE=DURATION:PT1H
X-Robots-Tag:noindex
X-PUBLISHED-TTL:PT1H
BEGIN:VTIMEZONE
TZID:UTC
BEGIN:STANDARD
TZOFFSETFROM:+0000
TZOFFSETTO:+0000
TZNAME:UTC
DTSTART:20160101T000000
END:STANDARD
END:VTIMEZONE
BEGIN:VEVENT
DTSTART;TZID=UTC:20170619T080000
DTEND;TZID=UTC:20170625T170000
DTSTAMP:20260419T232853
CREATED:20170215T094938Z
LAST-MODIFIED:20170215T095025Z
UID:10000248-1497859200-1498410000@aearboricultura.org
SUMMARY:EMBRANCHEMENTS NANCY 2017
DESCRIPTION:http://www.sfa-asso.fr/wordpress/embranchements-nancy-2017/ \nNancy est un pôle forestier de premier plan. La présence sur nos terres de grandes écoles et de centres de recherche dans ce domaine en atteste. Pour cette seconde édition d’Embranchements\, l’ambition est de mettre en lumière l’implication de la ville et de la métropole dans la gestion de l’arbre.
URL:https://aearboricultura.org/event/embranchements-nancy-2017/
END:VEVENT
BEGIN:VEVENT
DTSTART;TZID=UTC:20170609T080000
DTEND;TZID=UTC:20170611T170000
DTSTAMP:20260419T232853
CREATED:20170215T090052Z
LAST-MODIFIED:20170215T090052Z
UID:10000247-1496995200-1497200400@aearboricultura.org
SUMMARY:Rencontre National d’Arboriculture - Championnat de France
DESCRIPTION:Campeonato Nacional Francés de Trepa\, \n9\, 10 et 11 Junio 2017 \nRoubaix (59) \nhttp://www.sfa-asso.fr/wordpress/rencontres-regionales-darboriculture-2017/
URL:https://aearboricultura.org/event/rencontre-national-darboriculture-championnat-de-france/
END:VEVENT
BEGIN:VEVENT
DTSTART;TZID=UTC:20170603T080000
DTEND;TZID=UTC:20170604T170000
DTSTAMP:20260419T232853
CREATED:20170215T085732Z
LAST-MODIFIED:20170215T085942Z
UID:10000245-1496476800-1496595600@aearboricultura.org
SUMMARY:Rencontres Régionales d’Arboriculture en France – NORD EST
DESCRIPTION:Campeonato Francés de Trepa\, Región NORESTE \n3 y 4 Junio \nChevigny St Sauveur (21) cerca de Dijon \nhttp://www.sfa-asso.fr/wordpress/rencontres-regionales-darboriculture-2017/
URL:https://aearboricultura.org/event/rencontres-regionales-darboriculture-en-france-nord-est/
END:VEVENT
BEGIN:VEVENT
DTSTART;TZID=UTC:20170520T080000
DTEND;TZID=UTC:20170521T170000
DTSTAMP:20260419T232853
CREATED:20170215T085851Z
LAST-MODIFIED:20170215T085852Z
UID:10000246-1495267200-1495386000@aearboricultura.org
SUMMARY:Rencontres Régionales d’Arboriculture en France – CENTRE OUEST
DESCRIPTION:Campeonato Francés de Trepa\, Región CENTRO OESTE \n20 y 21 Mayo \nNantes (44) \nhttp://www.sfa-asso.fr/wordpress/rencontres-regionales-darboriculture-2017/
URL:https://aearboricultura.org/event/rencontres-regionales-darboriculture-en-france-centre-ouest/
END:VEVENT
BEGIN:VEVENT
DTSTART;TZID=UTC:20170422T080000
DTEND;TZID=UTC:20170423T170000
DTSTAMP:20260419T232853
CREATED:20170215T085301Z
LAST-MODIFIED:20170215T085301Z
UID:10000243-1492848000-1492966800@aearboricultura.org
SUMMARY:Rencontres Régionales d’Arboriculture en France - SUD EST
DESCRIPTION:Campeonato Francés de Trepa\, Región SURESTE \n22 y 23 abril \nBouc- Bel- Air (13) cerca de Marsella \n  \nhttp://www.elagage-hevea.com/images/pdf/2017/inscription-SE.jpg \n 
URL:https://aearboricultura.org/event/rencontres-regionales-darboriculture-en-france-sud-est/
END:VEVENT
BEGIN:VEVENT
DTSTART;TZID=UTC:20170324T080000
DTEND;TZID=UTC:20170325T170000
DTSTAMP:20260419T232853
CREATED:20170215T085612Z
LAST-MODIFIED:20170215T085612Z
UID:10000244-1490342400-1490461200@aearboricultura.org
SUMMARY:Rencontres Régionales d’Arboriculture en France - SUD OUEST
DESCRIPTION:Campeonato Francés de Trepa\, Región SUROESTE \n24 y 25 Marzo \nMazères Saverdun (09) cerca de Toulouse \nhttp://www.elagage-hevea.com/images/pdf/2017/inscription-SO.jpg
URL:https://aearboricultura.org/event/rencontres-regionales-darboriculture-en-france-sud-ouest/
END:VEVENT
END:VCALENDAR