BEGIN:VCALENDAR
VERSION:2.0
PRODID:-//Asociación Española de Arboricultura - ECPv6.15.20//NONSGML v1.0//EN
CALSCALE:GREGORIAN
METHOD:PUBLISH
X-ORIGINAL-URL:https://aearboricultura.org
X-WR-CALDESC:Eventos para Asociación Española de Arboricultura
REFRESH-INTERVAL;VALUE=DURATION:PT1H
X-Robots-Tag:noindex
X-PUBLISHED-TTL:PT1H
BEGIN:VTIMEZONE
TZID:UTC
BEGIN:STANDARD
TZOFFSETFROM:+0000
TZOFFSETTO:+0000
TZNAME:UTC
DTSTART:20140101T000000
END:STANDARD
END:VTIMEZONE
BEGIN:VEVENT
DTSTART;VALUE=DATE:20151202
DTEND;VALUE=DATE:20151206
DTSTAMP:20260421T175457
CREATED:20151105T085446Z
LAST-MODIFIED:20151204T083827Z
UID:10000220-1449014400-1449359999@aearboricultura.org
SUMMARY:PALMAVERDA 2015
DESCRIPTION:4a Jornada de Arboricultura y Paisajismo de las Islas Baleares\nDel 3 al 4 de diciembre de 2015 (actividades paralelas días 2 y 5 de diciembre) \nLugar: Colegio de Arquitectos de las Islas Baleares \nVER PROGRAMA \ninformación de contacto: \ncursos@arbrebalear.info \n637 800 990 (Jaume Fiol)
URL:https://aearboricultura.org/event/palmaverda/
LOCATION:Colegio de Arquitectos de las Islas Baleares\, Carrer de la Portella\, 14\, Palma de Mallorca\, 07001\, España
ORGANIZER;CN="Associaci%C3%B3 Balear de l'Arbre":MAILTO:aba@arbrebalear.info
GEO:39.566393;2.6504118
X-APPLE-STRUCTURED-LOCATION;VALUE=URI;X-ADDRESS=Colegio de Arquitectos de las Islas Baleares Carrer de la Portella 14 Palma de Mallorca 07001 España;X-APPLE-RADIUS=500;X-TITLE=Carrer de la Portella\, 14:geo:2.6504118,39.566393
END:VEVENT
END:VCALENDAR